BEGIN:VCALENDAR
VERSION:2.0
PRODID:-//Château de Crans//NONSGML kigkonsult.se iCalcreator 2.41.92//
CALSCALE:GREGORIAN
METHOD:PUBLISH
UID:32306535-6262-4432-b535-353561613965
X-WR-CALNAME:iCagenda
X-WR-CALDESC:Event Management Extension for Joomla!
X-WR-RELCALID:3E26604A-50F4-4449-8B3E-E4F4932D05B5
X-WR-TIMEZONE:Europe/Zurich
BEGIN:VTIMEZONE
TZID:Europe/Zurich
TZUNTIL:20260329T010000Z
BEGIN:STANDARD
TZNAME:CET
DTSTART:20231029T030000
TZOFFSETFROM:+0200
TZOFFSETTO:+0100
RDATE:20241027T030000
RDATE:20251026T030000
END:STANDARD
BEGIN:DAYLIGHT
TZNAME:CEST
DTSTART:20240331T020000
TZOFFSETFROM:+0100
TZOFFSETTO:+0200
RDATE:20250330T020000
END:DAYLIGHT
END:VTIMEZONE
BEGIN:VEVENT
UID:37616537-3138-4433-b238-623738346338
DTSTAMP:20260423T005147Z
CATEGORIES:Agenda Château de Crans
CLASS:PUBLIC
DESCRIPTION;ALTREP="CID:<FFFF__=0ABBE548DFE235B58f9e8a93d@coffeebean.com>":
 \nBienvenue à nos caves ouvertes automnales !\nVoilà 20 ans que Gilles Pil
 loud a fait sa première récolte au domaine ! Une année à fêter en sa compa
 gnie lors de nos caves ouvertes automnales ! Pour l'occasion\, une remise 
 exceptionnelle vous sera accordée pour l'achat de votre vin !\nSamedi 7 se
 ptembre 2024 de 11h à 20hDimanche 8 septembre 2024 de 11h à 17h\nAu progra
 mme de nos caves ouvertes&nbsp\;:\nOFFRE -10% sur tous nos vins (dès 12 bo
 uteilles 75cl)Dégustation de nos vinsVisite guidées des caves du Château d
 e crans (fr/en)Initiation à la dégustation avec Laurent Boyer\, de l'École
  du vin (fr/en)Concert de François Bérody de 16h à 19hRestauration chaude 
 &amp\;&nbsp\;Food truck :&nbsp\;planchettes du vigneron (viandes froides e
 t fromages)\,&nbsp\;burgers et frites\,&nbsp\;burgers végétariens\,&nbsp\;
 pizzasParcours libre dans le vignobleAnimation pour les enfants\nNous vous
  attendons nombreux pour venir profiter d'un agréable moment lors de cet é
 vènement.\n&nbsp\;&nbsp\;&nbsp\;&nbsp\;&nbsp\;&nbsp\;
DTSTART:20240907T090000Z
DTEND:20240908T150000Z
GEO:00;0
LOCATION:
ORGANIZER:
SEQUENCE:1
SUMMARY:Caves ouvertes automnales
TRANSP:OPAQUE
URL:https://chateau-de-crans.ch/component/icagenda/57-caves-ouvertes-automn
 ales-2024?layout=vcal
END:VEVENT
END:VCALENDAR
